BEGIN:VCALENDAR
VERSION:2.0
BEGIN:VEVENT
DTSTART;TZID=Europe/Stockholm:20250128T150000
DTEND;TZID=Europe/Stockholm:20250128T160000
DTSTAMP:20260422T104126
DESCRIPTION:... på Korttidsenheten Visby
Anna Ljung talar & leder
Georg Johansson spelar
Annbritt Lindqvist är kyrkvärd
SEQUENCE:0
SUMMARY:Andakt
UID:4535@lawebb.se
END:VEVENT
END:VCALENDAR