BEGIN:VCALENDAR
VERSION:2.0
BEGIN:VEVENT
DTSTART;TZID=Europe/Stockholm:20250125T190000
DTEND;TZID=Europe/Stockholm:20250125T200000
DTSTAMP:20260422T110147
DESCRIPTION:Stina & Jonathan Lindén med flera
SEQUENCE:0
SUMMARY:UN(G)IK - Lördagskväll för unga vuxna
UID:3967@lawebb.se
END:VEVENT
END:VCALENDAR