BEGIN:VCALENDAR
VERSION:2.0
BEGIN:VEVENT
DTSTART;TZID=Europe/Stockholm:20250123T190000
DTEND;TZID=Europe/Stockholm:20250123T200000
DTSTAMP:20260420T103054
DESCRIPTION:Patrik von Corswant delar
Emma Jansson sjunger
Sara Boström spelar 
Anna Ljung leder
SEQUENCE:0
SUMMARY:Sinnesrogudstjänst
UID:5693@lawebb.se
END:VEVENT
END:VCALENDAR