BEGIN:VCALENDAR
VERSION:2.0
BEGIN:VEVENT
DTSTART;TZID=Europe/Stockholm:20250122T093000
DTEND;TZID=Europe/Stockholm:20250122T103000
DTSTAMP:20260420T102934
DESCRIPTION:Sara Boström, Britt Björkqvist & Anna Ljung
SEQUENCE:0
SUMMARY:Musiklekis Bim Bom Bam - Terminstart
UID:5692@lawebb.se
END:VEVENT
END:VCALENDAR