BEGIN:VCALENDAR
VERSION:2.0
BEGIN:VEVENT
DTSTART;TZID=Europe/Stockholm:20250119T160000
DTEND;TZID=Europe/Stockholm:20250119T170000
DTSTAMP:20260420T103459
DESCRIPTION:*Start på firandet av ekumeniska året 2025*
... i Klinte kyrka
Pastor Amani Mukutano från Kongo predikar
Equmeniakyrkan Västra Gotlands församlingskör 
sjunger under ledning av Lena Gomér
Gotlands kristna råds styrelse
SEQUENCE:0
SUMMARY:Gudstjänst i ekumeniska böneveckan
UID:7788@lawebb.se
END:VEVENT
END:VCALENDAR