BEGIN:VCALENDAR
VERSION:2.0
BEGIN:VEVENT
DTSTART;TZID=Europe/Stockholm:20250119T110000
DTEND;TZID=Europe/Stockholm:20250119T120000
DTSTAMP:20260420T103331
DESCRIPTION:Karin Thysell predikar
Saga Herlitz leder
Kathrin Dohse spelar tvärflöjt
Elke Unt spelar piano & orgel
SEQUENCE:0
SUMMARY:Gudstjänst
UID:3522@lawebb.se
END:VEVENT
END:VCALENDAR