BEGIN:VCALENDAR
VERSION:2.0
BEGIN:VEVENT
DTSTART;TZID=Europe/Stockholm:20250112T110000
DTEND;TZID=Europe/Stockholm:20250112T120000
DTSTAMP:20260422T103803
DESCRIPTION:Anna Ljung predikar
Britt Björkqvist leder
Sara Boström spelar piano 
Ingrid Arvidsson & Per Henriksson sjunger
Skidlägrets ungdomar ansvara för fikabrödet & berättar om lägret
SEQUENCE:0
SUMMARY:Tillsammansgudstjänst med nattvard
UID:7287@lawebb.se
END:VEVENT
END:VCALENDAR