BEGIN:VCALENDAR
VERSION:2.0
BEGIN:VEVENT
DTSTART;TZID=Europe/Stockholm:20250111T190000
DTEND;TZID=Europe/Stockholm:20250111T200000
DTSTAMP:20260420T102855
DESCRIPTION:* - Nystart*
... i Visby Pingstkyrka
Stina & Jonathan Lindén med flera
SEQUENCE:0
SUMMARY:UN(G)IK  - Lördagskväll för unga vuxna
UID:6342@lawebb.se
END:VEVENT
END:VCALENDAR