BEGIN:VCALENDAR
VERSION:2.0
BEGIN:VEVENT
DTSTART;TZID=Europe/Stockholm:20250105T110000
DTEND;TZID=Europe/Stockholm:20250105T120000
DTSTAMP:20260420T103218
DESCRIPTION:Anna Ljung leder & predikar
Georg Johansson spelar orgel
Ny medlem hälsas välkommen
Julgröt efteråt
SEQUENCE:0
SUMMARY:Gudstjänst - Trettondag Jul
UID:7833@lawebb.se
END:VEVENT
END:VCALENDAR