BEGIN:VCALENDAR
VERSION:2.0
BEGIN:VEVENT
DTSTART;TZID=Europe/Stockholm:20241213T190000
DTEND;TZID=Europe/Stockholm:20241213T200000
DTSTAMP:20260420T115428
DESCRIPTION:Jonathan &#34; Stina Lindén & Anna Ljung
SEQUENCE:0
SUMMARY:Ungdomskväll med aktiviteter & fika
UID:2573@lawebb.se
END:VEVENT
END:VCALENDAR