BEGIN:VCALENDAR
VERSION:2.0
BEGIN:VEVENT
DTSTART;TZID=Europe/Stockholm:20241205T093000
DTEND;TZID=Europe/Stockholm:20241205T103000
DTSTAMP:20260420T115027
DESCRIPTION:Vi läser Lukasevangeliet, samtalar, ber & fikar 
Anna Ljung
SEQUENCE:0
SUMMARY:Bibelsamtal & bön
UID:6895@lawebb.se
END:VEVENT
END:VCALENDAR