BEGIN:VCALENDAR
VERSION:2.0
BEGIN:VEVENT
DTSTART;TZID=Europe/Stockholm:20241117T110000
DTEND;TZID=Europe/Stockholm:20241117T120000
DTSTAMP:20260420T132204
DESCRIPTION:
SEQUENCE:0
SUMMARY:Gudstjänst
UID:5285@lawebb.se
END:VEVENT
END:VCALENDAR