BEGIN:VCALENDAR
VERSION:2.0
BEGIN:VEVENT
DTSTART;TZID=Europe/Stockholm:20241115T190000
DTEND;TZID=Europe/Stockholm:20241115T200000
DTSTAMP:20260420T133042
DESCRIPTION:Jonathan &#34; Stina Lindén & Anna Ljung
SEQUENCE:0
SUMMARY:Ungdomskväll med aktiviteter & fika
UID:9469@lawebb.se
END:VEVENT
END:VCALENDAR