BEGIN:VCALENDAR
VERSION:2.0
BEGIN:VEVENT
DTSTART;TZID=Europe/Stockholm:20241112T140000
DTEND;TZID=Europe/Stockholm:20241112T150000
DTSTAMP:20260420T132648
DESCRIPTION:En stund av gemenskap & fika
SEQUENCE:0
SUMMARY:Tisdagsträffen
UID:8483@lawebb.se
END:VEVENT
END:VCALENDAR