BEGIN:VCALENDAR
VERSION:2.0
BEGIN:VEVENT
DTSTART;TZID=Europe/Stockholm:20241106T093000
DTEND;TZID=Europe/Stockholm:20241106T103000
DTSTAMP:20260420T132508
DESCRIPTION:Sara Boström, Tina Alvinge & Anna Ljung
SEQUENCE:0
SUMMARY:Musiklekis Bim Bom Bam
UID:5866@lawebb.se
END:VEVENT
END:VCALENDAR