BEGIN:VCALENDAR
VERSION:2.0
BEGIN:VEVENT
DTSTART;TZID=Europe/Stockholm:20241103T110000
DTEND;TZID=Europe/Stockholm:20241103T120000
DTSTAMP:20260420T133037
DESCRIPTION:
SEQUENCE:0
SUMMARY:Gudstjänst
UID:2532@lawebb.se
END:VEVENT
END:VCALENDAR