BEGIN:VCALENDAR
VERSION:2.0
BEGIN:VEVENT
DTSTART;TZID=Europe/Stockholm:20241031T093000
DTEND;TZID=Europe/Stockholm:20241031T103000
DTSTAMP:20260420T132717
DESCRIPTION:Vi läser Lukasevangeliet, samtalar, ber & fikar 
Anna Ljung
SEQUENCE:0
SUMMARY:Bibelsamtal & bön
UID:8993@lawebb.se
END:VEVENT
END:VCALENDAR