BEGIN:VCALENDAR
VERSION:2.0
BEGIN:VEVENT
DTSTART;TZID=Europe/Stockholm:20241028T090000
DTEND;TZID=Europe/Stockholm:20241028T100000
DTSTAMP:20260420T132336
DESCRIPTION:
SEQUENCE:0
SUMMARY:Arbete ute
UID:7827@lawebb.se
END:VEVENT
END:VCALENDAR