BEGIN:VCALENDAR
VERSION:2.0
BEGIN:VEVENT
DTSTART;TZID=Europe/Stockholm:20241025T190000
DTEND;TZID=Europe/Stockholm:20241025T200000
DTSTAMP:20260420T132945
DESCRIPTION:Jonathan & Stina Lindén & Anna Ljung
SEQUENCE:0
SUMMARY:Ungdomskväll med aktiviteter & fika
UID:4933@lawebb.se
END:VEVENT
END:VCALENDAR