BEGIN:VCALENDAR
VERSION:2.0
BEGIN:VEVENT
DTSTART;TZID=Europe/Stockholm:20241023T093000
DTEND;TZID=Europe/Stockholm:20241023T103000
DTSTAMP:20260420T145731
DESCRIPTION:Sara Boström, Tina Alvinge & Anna Ljung
SEQUENCE:0
SUMMARY:Musiklekis Bim Bom Bam
UID:9247@lawebb.se
END:VEVENT
END:VCALENDAR