BEGIN:VCALENDAR
VERSION:2.0
BEGIN:VEVENT
DTSTART;TZID=Europe/Stockholm:20241001T140000
DTEND;TZID=Europe/Stockholm:20241001T150000
DTSTAMP:20260420T145644
DESCRIPTION:En stund av gemenskap & fika
SEQUENCE:0
SUMMARY:Tisdagsträffen
UID:3662@lawebb.se
END:VEVENT
END:VCALENDAR