BEGIN:VCALENDAR
VERSION:2.0
BEGIN:VEVENT
DTSTART;TZID=Europe/Stockholm:20240930T090000
DTEND;TZID=Europe/Stockholm:20240930T100000
DTSTAMP:20260420T114903
DESCRIPTION:
SEQUENCE:0
SUMMARY:Arbete ute
UID:8898@lawebb.se
END:VEVENT
END:VCALENDAR