BEGIN:VCALENDAR
VERSION:2.0
BEGIN:VEVENT
DTSTART;TZID=Europe/Stockholm:20240918T093000
DTEND;TZID=Europe/Stockholm:20240918T103000
DTSTAMP:20260420T115300
DESCRIPTION:Sara Boström, Tina Alvinge & Anna Ljung
SEQUENCE:0
SUMMARY:Musiklekis Bim Bom Bam
UID:7794@lawebb.se
END:VEVENT
END:VCALENDAR