BEGIN:VCALENDAR
VERSION:2.0
BEGIN:VEVENT
DTSTART;TZID=Europe/Stockholm:20240916T090000
DTEND;TZID=Europe/Stockholm:20240916T100000
DTSTAMP:20260420T114900
DESCRIPTION:
SEQUENCE:0
SUMMARY:Arbete ute
UID:4936@lawebb.se
END:VEVENT
END:VCALENDAR