BEGIN:VCALENDAR
VERSION:2.0
BEGIN:VEVENT
DTSTART;TZID=Europe/Stockholm:20240910T140000
DTEND;TZID=Europe/Stockholm:20240910T150000
DTSTAMP:20260420T115151
DESCRIPTION:En stund av gemenskap & fika
SEQUENCE:0
SUMMARY:Tisdagsträffen
UID:2429@lawebb.se
END:VEVENT
END:VCALENDAR