BEGIN:VCALENDAR
VERSION:2.0
BEGIN:VEVENT
DTSTART;TZID=Europe/Stockholm:20240908T110000
DTEND;TZID=Europe/Stockholm:20240908T120000
DTSTAMP:20260420T115209
DESCRIPTION:
SEQUENCE:0
SUMMARY:Gudstjänst
UID:2565@lawebb.se
END:VEVENT
END:VCALENDAR