BEGIN:VCALENDAR
VERSION:2.0
BEGIN:VEVENT
DTSTART;TZID=Europe/Stockholm:20240830T190000
DTEND;TZID=Europe/Stockholm:20240830T200000
DTSTAMP:20260420T102720
DESCRIPTION:Jonathan & Stina Lindén & Anna Ljung
SEQUENCE:0
SUMMARY:Ungdomskväll med aktiviteter & fika
UID:9999@lawebb.se
END:VEVENT
END:VCALENDAR