BEGIN:VCALENDAR
VERSION:2.0
BEGIN:VEVENT
DTSTART;TZID=Europe/Stockholm:20240326T140000
DTEND;TZID=Europe/Stockholm:20240326T150000
DTSTAMP:20260421T111203
DESCRIPTION:En stund av gemenskap & fika
SEQUENCE:0
SUMMARY:Tisdagsträffen
UID:6239@lawebb.se
END:VEVENT
END:VCALENDAR