BEGIN:VCALENDAR
VERSION:2.0
BEGIN:VEVENT
DTSTART;TZID=Europe/Stockholm:20240317T110000
DTEND;TZID=Europe/Stockholm:20240317T120000
DTSTAMP:20260421T111201
DESCRIPTION:
SEQUENCE:0
SUMMARY:Gudstjänst
UID:4646@lawebb.se
END:VEVENT
END:VCALENDAR