BEGIN:VCALENDAR
VERSION:2.0
BEGIN:VEVENT
DTSTART;TZID=Europe/Stockholm:20240312T140000
DTEND;TZID=Europe/Stockholm:20240312T150000
DTSTAMP:20260421T111107
DESCRIPTION:En stund av gemenskap & fika
SEQUENCE:0
SUMMARY:Tisdagsträffen
UID:8222@lawebb.se
END:VEVENT
END:VCALENDAR