BEGIN:VCALENDAR
VERSION:2.0
BEGIN:VEVENT
DTSTART;TZID=Europe/Stockholm:20240307T093000
DTEND;TZID=Europe/Stockholm:20240307T103000
DTSTAMP:20260421T110817
DESCRIPTION:Vi läser Lukasevangeliet, samtalar, ber & fikar
Anna Ljung
SEQUENCE:0
SUMMARY:Bibelsamtal & bön
UID:8589@lawebb.se
END:VEVENT
END:VCALENDAR