BEGIN:VCALENDAR
VERSION:2.0
BEGIN:VEVENT
DTSTART;TZID=Europe/Stockholm:20240306T093000
DTEND;TZID=Europe/Stockholm:20240306T103000
DTSTAMP:20260421T110809
DESCRIPTION:Sara Boström, Tina Alvinge & Anna Ljung
SEQUENCE:0
SUMMARY:Musiklekis Bim Bom Bam
UID:7526@lawebb.se
END:VEVENT
END:VCALENDAR