BEGIN:VCALENDAR
VERSION:2.0
BEGIN:VEVENT
DTSTART;TZID=Europe/Stockholm:20240305T140000
DTEND;TZID=Europe/Stockholm:20240305T150000
DTSTAMP:20260421T111010
DESCRIPTION:En stund av gemenskap & fika
SEQUENCE:0
SUMMARY:Tisdagsträffen
UID:8495@lawebb.se
END:VEVENT
END:VCALENDAR