BEGIN:VCALENDAR
VERSION:2.0
BEGIN:VEVENT
DTSTART;TZID=Europe/Stockholm:20240227T140000
DTEND;TZID=Europe/Stockholm:20240227T150000
DTSTAMP:20260421T123324
DESCRIPTION:En stund av gemenskap & fika
SEQUENCE:0
SUMMARY:Tisdagsträffen
UID:8532@lawebb.se
END:VEVENT
END:VCALENDAR