BEGIN:VCALENDAR
VERSION:2.0
BEGIN:VEVENT
DTSTART;TZID=Europe/Stockholm:20240216T190000
DTEND;TZID=Europe/Stockholm:20240216T200000
DTSTAMP:20260421T123241
DESCRIPTION:Jonathan & Stina Lindén & Anna Ljung
SEQUENCE:0
SUMMARY:Ungdomskväll med aktiviteter & fika
UID:7634@lawebb.se
END:VEVENT
END:VCALENDAR