BEGIN:VCALENDAR
VERSION:2.0
BEGIN:VEVENT
DTSTART;TZID=Europe/Stockholm:20240202T190000
DTEND;TZID=Europe/Stockholm:20240202T200000
DTSTAMP:20260421T123118
DESCRIPTION:Jonathan & Stina Lindén & Anna Ljung
SEQUENCE:0
SUMMARY:Ungdomskväll med aktiviteter & fika
UID:7687@lawebb.se
END:VEVENT
END:VCALENDAR