BEGIN:VCALENDAR
VERSION:2.0
BEGIN:VEVENT
DTSTART;TZID=Europe/Stockholm:20231208T190000
DTEND;TZID=Europe/Stockholm:20231208T200000
DTSTAMP:20260421T123031
DESCRIPTION:Stina & Jonathan Lindén
Anna Ljung
SEQUENCE:0
SUMMARY:Ungdomskväll med aktiviteter & fika
UID:9797@lawebb.se
END:VEVENT
END:VCALENDAR