BEGIN:VCALENDAR
VERSION:2.0
BEGIN:VEVENT
DTSTART;TZID=Europe/Stockholm:20231207T093000
DTEND;TZID=Europe/Stockholm:20231207T103000
DTSTAMP:20260421T123639
DESCRIPTION:Anna Ljung
SEQUENCE:0
SUMMARY:Bibelsamtal & bön
UID:9444@lawebb.se
END:VEVENT
END:VCALENDAR