BEGIN:VCALENDAR
VERSION:2.0
BEGIN:VEVENT
DTSTART;TZID=Europe/Stockholm:20231128T140000
DTEND;TZID=Europe/Stockholm:20231128T150000
DTSTAMP:20260421T135441
DESCRIPTION:En stund av gemenskap & fika
SEQUENCE:0
SUMMARY:Tisdagsträffen
UID:9954@lawebb.se
END:VEVENT
END:VCALENDAR