BEGIN:VCALENDAR
VERSION:2.0
BEGIN:VEVENT
DTSTART;TZID=Europe/Stockholm:20231115T093000
DTEND;TZID=Europe/Stockholm:20231115T103000
DTSTAMP:20260421T135711
DESCRIPTION:Sara Boström
Tina Alvinge
Anna Ljung
SEQUENCE:0
SUMMARY:Musiklekis Bim Bom Bam
UID:8365@lawebb.se
END:VEVENT
END:VCALENDAR