BEGIN:VCALENDAR
VERSION:2.0
BEGIN:VEVENT
DTSTART;TZID=Europe/Stockholm:20231114T140000
DTEND;TZID=Europe/Stockholm:20231114T150000
DTSTAMP:20260421T135440
DESCRIPTION:En stund av gemenskap & fika
SEQUENCE:0
SUMMARY:Tisdagsträffen
UID:5338@lawebb.se
END:VEVENT
END:VCALENDAR