BEGIN:VCALENDAR
VERSION:2.0
BEGIN:VEVENT
DTSTART;TZID=Europe/Stockholm:20231113T090000
DTEND;TZID=Europe/Stockholm:20231113T100000
DTSTAMP:20260421T135743
DESCRIPTION:
SEQUENCE:0
SUMMARY:Arbete ute
UID:2648@lawebb.se
END:VEVENT
END:VCALENDAR