BEGIN:VCALENDAR
VERSION:2.0
BEGIN:VEVENT
DTSTART;TZID=Europe/Stockholm:20231112T110000
DTEND;TZID=Europe/Stockholm:20231112T120000
DTSTAMP:20260421T123513
DESCRIPTION:
SEQUENCE:0
SUMMARY:Gudstjänst
UID:8798@lawebb.se
END:VEVENT
END:VCALENDAR