BEGIN:VCALENDAR
VERSION:2.0
BEGIN:VEVENT
DTSTART;TZID=Europe/Stockholm:20231109T093000
DTEND;TZID=Europe/Stockholm:20231109T103000
DTSTAMP:20260421T135906
DESCRIPTION:Anna Ljung
SEQUENCE:0
SUMMARY:Bibelsamtal & bön
UID:9482@lawebb.se
END:VEVENT
END:VCALENDAR